BEGIN:VCALENDAR
VERSION:2.0
PRODID:-//ChamberMaster//Event Calendar 2.0//EN
METHOD:PUBLISH
X-PUBLISHED-TTL:P3D
REFRESH-INTERVAL:P3D
CALSCALE:GREGORIAN
BEGIN:VEVENT
DTSTART:20190503T230000Z
DTEND:20190504T013000Z
X-MICROSOFT-CDO-ALLDAYEVENT:FALSE
SUMMARY:Summer Fashion Show
DESCRIPTION:Designers: Maya Ford\, Lorena Auguste\, Lydia Tovar Mata\, LGT. Angel 5 Vendors and appetizers! Presale Price (2-8-19 through 4-1-19) $8 Door Price $10
X-ALT-DESC;FMTTYPE=text/html:Designers: Maya Ford\, Lorena Auguste\, Lydia Tovar Mata\, LGT. Angel 5 Vendors and appetizers! Presale Price (2-8-19 through 4-1-19) $8 Door Price $10
LOCATION:El Progresso Memorial Library
UID:e.2154.6531
SEQUENCE:3
DTSTAMP:20260426T040414Z
URL:https://business.uvalde.org/events/details/summer-fashion-show-6531
END:VEVENT

END:VCALENDAR
