BEGIN:VCALENDAR
VERSION:2.0
PRODID:-//ChamberMaster//Event Calendar 2.0//EN
METHOD:PUBLISH
X-PUBLISHED-TTL:P3D
REFRESH-INTERVAL:P3D
CALSCALE:GREGORIAN
BEGIN:VEVENT
DTSTART:20190827T160000Z
DTEND:20190827T170000Z
X-MICROSOFT-CDO-ALLDAYEVENT:FALSE
SUMMARY:SWTJC Makerspace Ribbon Cutting
DESCRIPTION:Join us for the Ribbon Cutting Celebration of our newly renovated Student Success Center & Makerspace!
X-ALT-DESC;FMTTYPE=text/html:Join us for the Ribbon Cutting Celebration of our newly renovated Student Success Center &amp\; Makerspace!
LOCATION:Sterling Fly Building\, Student Success Center
UID:e.2154.9157
SEQUENCE:3
DTSTAMP:20260425T224355Z
URL:https://business.uvalde.org/events/details/swtjc-makerspace-ribbon-cutting-9157
END:VEVENT

END:VCALENDAR
