BEGIN:VCALENDAR
VERSION:2.0
PRODID:-//ChamberMaster//Event Calendar 2.0//EN
METHOD:PUBLISH
X-PUBLISHED-TTL:P3D
REFRESH-INTERVAL:P3D
CALSCALE:GREGORIAN
BEGIN:VEVENT
DTSTART:20191214T230000Z
DTEND:20191215T020000Z
X-MICROSOFT-CDO-ALLDAYEVENT:FALSE
SUMMARY:The 501 Ranch 4th Annual Trail of Lights
DESCRIPTION:The 501 Ranch presents their 4th Annual Trail of Lights event!\n\nThere will be a Toy Drive\, Popcorn\, Cocoa\, and Santa appearance!
X-ALT-DESC;FMTTYPE=text/html:The 501 Ranch presents their 4th Annual Trail of Lights event!<br />\nThere will be a Toy Drive\, Popcorn\, Cocoa\, and Santa appearance!&nbsp\;
LOCATION:501 Ranch
UID:e.2154.9219
SEQUENCE:3
DTSTAMP:20260425T160943Z
URL:https://business.uvalde.org/events/details/the-501-ranch-4th-annual-trail-of-lights-12-14-2019-9219
END:VEVENT

END:VCALENDAR
