BEGIN:VCALENDAR
VERSION:2.0
PRODID:-//ChamberMaster//Event Calendar 2.0//EN
METHOD:PUBLISH
X-PUBLISHED-TTL:P3D
REFRESH-INTERVAL:P3D
CALSCALE:GREGORIAN
BEGIN:VEVENT
DTSTART:20191011T233000Z
DTEND:20191012T043000Z
X-MICROSOFT-CDO-ALLDAYEVENT:FALSE
SUMMARY:Thunder at the Crossroads
DESCRIPTION:Who's excited for Uvalde's second annual truck and tractor pull?!\n\nIf you haven't already\, head on over to our Facebook page\, Thunder at the Crossroads and give us a like and a share!! Tell all your friends and family!
X-ALT-DESC;FMTTYPE=text/html:<span style="caret-color: rgb(29\, 33\, 41)\; color: rgb(29\, 33\, 41)\; font-family: system-ui\, -apple-system\, BlinkMacSystemFont\, &quot\;.SFNSText-Regular&quot\;\, sans-serif\; font-size: 14px\;">Who&rsquo\;s excited for Uvalde&rsquo\;s second annual truck and tractor pull?!</span><br style="caret-color: rgb(29\, 33\, 41)\; color: rgb(29\, 33\, 41)\; font-family: system-ui\, -apple-system\, BlinkMacSystemFont\, &quot\;.SFNSText-Regular&quot\;\, sans-serif\; font-size: 14px\;" />\n<span style="caret-color: rgb(29\, 33\, 41)\; color: rgb(29\, 33\, 41)\; font-family: system-ui\, -apple-system\, BlinkMacSystemFont\, &quot\;.SFNSText-Regular&quot\;\, sans-serif\; font-size: 14px\;">If you haven&rsquo\;t already\, head on over to our Facebook page\,&nbsp\;</span><a class="profileLink" data-hovercard="/ajax/hovercard/page.php?id=242471066498457&amp\;extragetparams=%7B%22fref%22%3A%22mentions%22%2C%22directed_target_id%22%3A226865371414170%7D" data-hovercard-prefer-more-content-show="1" href="https://www.facebook.com/thunderatthecrossroads/?fref=mentions&amp\;__xts__%5B0%5D=68.ARB0jnbDQEOlaCYf6yn7Z4lRhO97NyMPoW_UvgnA6V8bgr37oAaWhKr-o0ZJ1gUJyu8jz6WFVpT2kKF0mNg7lRPS0E2GiF08i2rLpZmo8GXfWBqoOe2y-WjMIQvxxtepE2Vzv6wKj4KvD6xnaW8WtGUZOqQg02P3lozKjKCcPxYIjchlV-kZ&amp\;__tn__=K-R" style="color: rgb(54\, 88\, 153)\; cursor: pointer\; text-decoration: none\; font-family: system-ui\, -apple-system\, BlinkMacSystemFont\, &quot\;.SFNSText-Regular&quot\;\, sans-serif\; font-size: 14px\;">Thunder at the Crossroads</a><span style="caret-color: rgb(29\, 33\, 41)\; color: rgb(29\, 33\, 41)\; font-family: system-ui\, -apple-system\, BlinkMacSystemFont\, &quot\;.SFNSText-Regular&quot\;\, sans-serif\; font-size: 14px\;">&nbsp\;and give us a like and a share!! Tell all your friends and family!</span>
LOCATION:Uvalde County Fairplex - 215 Veterans Lane
UID:e.2154.9155
SEQUENCE:3
DTSTAMP:20260425T191233Z
URL:https://business.uvalde.org/events/details/thunder-at-the-crossroads-9155
END:VEVENT

END:VCALENDAR
