BEGIN:VCALENDAR
VERSION:2.0
PRODID:-//ChamberMaster//Event Calendar 2.0//EN
METHOD:PUBLISH
X-PUBLISHED-TTL:P3D
REFRESH-INTERVAL:P3D
CALSCALE:GREGORIAN
BEGIN:VEVENT
DTSTART:20221217T133000Z
DTEND:20221217T230000Z
X-MICROSOFT-CDO-ALLDAYEVENT:FALSE
SUMMARY:Uvalde Christmas Bird Count
DESCRIPTION:Join a nationwide effort to monitor birds! We will meet in the Civic Center parking lot at 7:30am and end between 4-5pm with a tally rally at Rexall. Coming in to town for lunch at Subway is optional. *Please email mgfrank@tamu.edu if you intend to join us!*
X-ALT-DESC;FMTTYPE=text/html:Join a nationwide effort to monitor birds! We will meet in the Civic Center parking lot at 7:30am and end between 4-5pm with a tally rally at Rexall. Coming in to town for lunch at Subway is optional. *Please email mgfrank@tamu.edu if you intend to join us!*
LOCATION:
UID:e.2154.9843
SEQUENCE:3
DTSTAMP:20260423T051841Z
URL:https://business.uvalde.org/events/details/uvalde-christmas-bird-count-12-17-2022-9843
END:VEVENT

END:VCALENDAR
