BEGIN:VCALENDAR
VERSION:2.0
PRODID:-//ChamberMaster//Event Calendar 2.0//EN
METHOD:PUBLISH
X-PUBLISHED-TTL:P3D
REFRESH-INTERVAL:P3D
CALSCALE:GREGORIAN
BEGIN:VEVENT
DTSTART;VALUE=DATE:20191214
DTEND;VALUE=DATE:20191215
TRANSP:TRANSPARENT
X-MICROSOFT-CDO-ALLDAYEVENT:TRUE
SUMMARY:Uvalde Christmas Bird Count
DESCRIPTION:Help count birds for National Audubon Society species distribution maps!\n\nAll levels of birders are welcome! Bring your own Binoculars and dress for the weather.
X-ALT-DESC;FMTTYPE=text/html:Help count birds for National Audubon Society species distribution maps!<br />\nAll levels of birders are welcome! Bring your own Binoculars and dress for the weather.
LOCATION:Meet at Uvalde Civic Center parking lot 300 E Main\, Uvalde\, Texas 78801
UID:e.2154.9242
SEQUENCE:3
DTSTAMP:20260425T160448Z
URL:https://business.uvalde.org/events/details/uvalde-christmas-bird-count-9242
END:VEVENT

END:VCALENDAR
