BEGIN:VCALENDAR
VERSION:2.0
PRODID:-//ChamberMaster//Event Calendar 2.0//EN
METHOD:PUBLISH
X-PUBLISHED-TTL:P3D
REFRESH-INTERVAL:P3D
CALSCALE:GREGORIAN
BEGIN:VEVENT
DTSTART:20200214T003000Z
DTEND:20200214T023000Z
X-MICROSOFT-CDO-ALLDAYEVENT:FALSE
SUMMARY:Uvalde County Candidate Forum
DESCRIPTION:Presented by:\n\nThe Uvalde Area Chamber of Commerce
X-ALT-DESC;FMTTYPE=text/html:Presented by:<br />\nThe Uvalde Area Chamber of Commerce
LOCATION:Janey Slaughter Briscoe Grand Opera House
UID:e.2154.9259
SEQUENCE:3
DTSTAMP:20260425T122708Z
URL:https://business.uvalde.org/events/details/uvalde-county-candidate-forum-9259
END:VEVENT

END:VCALENDAR
