BEGIN:VCALENDAR
VERSION:2.0
PRODID:-//ChamberMaster//Event Calendar 2.0//EN
METHOD:PUBLISH
X-PUBLISHED-TTL:P3D
REFRESH-INTERVAL:P3D
CALSCALE:GREGORIAN
BEGIN:VEVENT
DTSTART:20190614T210000Z
DTEND:20190615T030000Z
X-MICROSOFT-CDO-ALLDAYEVENT:FALSE
SUMMARY:Uvalde Honey Festival
DESCRIPTION:The 2019 Uvalde Honey Festival will be a recreation of the one and only Honey Festival that coincided with the Blue Ribbon prize at the World's Fair in Paris\, France in 1905. A festival of this kind has not been in place since 1905 and we celebrate the opportunity to highlight our amazing heritage and farming industry. From a hometown bake-off to a modern twist on a relay race (who doesn't love eating Honeybuns at the track?!) The Uvalde Honey festival will be full of great food\, music\, dance\, crafts\, bee and honey conservation education\, fellowship\, and celebration of our town heritage as the Honey Capital of the World!
X-ALT-DESC;FMTTYPE=text/html:The 2019 Uvalde Honey Festival will be a recreation of the one and only Honey Festival that coincided with the Blue Ribbon prize at the World&#39\;s Fair in Paris\, France in 1905. A festival of this kind has not been in place since 1905 and we celebrate the opportunity to highlight our amazing heritage and farming industry. From a hometown bake-off to a modern twist on a relay race (who doesn&#39\;t love eating Honeybuns at the track?!) The Uvalde Honey festival will be full of great food\, music\, dance\, crafts\, bee and honey conservation education\, fellowship\, and celebration of our town heritage as the Honey Capital of the World!
LOCATION:Downtown Uvalde Plaza - Town Square
UID:e.2154.5865
SEQUENCE:3
DTSTAMP:20260426T022308Z
URL:https://business.uvalde.org/events/details/uvalde-honey-festival-5865
END:VEVENT

END:VCALENDAR
