BEGIN:VCALENDAR
VERSION:2.0
PRODID:-//ChamberMaster//Event Calendar 2.0//EN
METHOD:PUBLISH
X-PUBLISHED-TTL:P3D
REFRESH-INTERVAL:P3D
CALSCALE:GREGORIAN
BEGIN:VEVENT
DTSTART:20190713T150000Z
DTEND:20190713T190000Z
X-MICROSOFT-CDO-ALLDAYEVENT:FALSE
SUMMARY:Watercolor Workshop
DESCRIPTION:Eddie Sutherland will offer a free Watercolor Workshop for adults
X-ALT-DESC;FMTTYPE=text/html:Eddie Sutherland will offer a free Watercolor Workshop for adults
LOCATION:El Progreso Memorial Library
UID:e.2154.9134
SEQUENCE:3
DTSTAMP:20260426T021342Z
URL:https://business.uvalde.org/events/details/watercolor-workshop-9134
END:VEVENT

END:VCALENDAR
