BEGIN:VCALENDAR
VERSION:2.0
PRODID:-//ChamberMaster//Event Calendar 2.0//EN
METHOD:PUBLISH
X-PUBLISHED-TTL:P3D
REFRESH-INTERVAL:P3D
CALSCALE:GREGORIAN
BEGIN:VEVENT
DTSTART:20220325T223000Z
DTEND:20220326T010000Z
X-MICROSOFT-CDO-ALLDAYEVENT:FALSE
SUMMARY:Westward Road Concert
DESCRIPTION:On March 25th\, we are hosting a dinner @ 5:30p and live music @ 6:30p by Westward Road at our church! This is open to the whole community. We ask that you bring a free will offering. The proceeds will go to Westward Road to help cover their music ministry expenses.\n\n\n\nCheck out the event page at: https://www.facebook.com/events/471347497991926
X-ALT-DESC;FMTTYPE=text/html:<div>\n<div>\n<div>\n<div>\n<div>\n<div style="text-align:start"><span dir="auto">On March 25th\, we are hosting a dinner @ 5:30p and live music @ 6:30p by Westward Road at our church! This is open to the whole community. We ask that you bring a free will offering. The proceeds will go to Westward Road to help cover their music ministry expenses.<br />\n<br />\nCheck out the event page at: <a class="oajrlxb2 g5ia77u1 qu0x051f esr5mh6w e9989ue4 r7d6kgcz rq0escxv nhd2j8a9 nc684nl6 p7hjln8o kvgmc6g5 cxmmr5t8 oygrvhab hcukyx3x jb3vyjys rz4wbd8a qt6c0cv9 a8nywdso i1ao9s8h esuyzwwr f1sip0of lzcic4wl gpro0wi8 q66pz984 b1v8xokw" href="https://www.facebook.com/events/471347497991926/?__cft__[0]=AZXEZWQPClUz_wSWdPBzzVMM1HW_8o5c2UnNabJFk7YWfbW02i0ALXhcDZPAfOQBTrFZKAjwWXCqmTl0GjaVMSAoWRXQVWd7G0dADB7LU0mSCQwWOMFHz-u2hd_Kj9bKyApT55JyuUmkGEfL5yGWcJhpIG3pIlPaW7aTIMpf8H1HnbVw39Xvki5StvMmCkEksUk&amp\;__tn__=-UK-R" tabindex="0">https://www.facebook.com/events/471347497991926</a></span></div>\n</div>\n</div>\n</div>\n</div>\n</div>\n
LOCATION:Grassy field behind Trinity Lutheran Church 762 N. Getty St. Uvalde\, TX 78801
UID:e.2154.9562
SEQUENCE:3
DTSTAMP:20260423T195209Z
URL:https://business.uvalde.org/events/details/westward-road-concert-9562
END:VEVENT

END:VCALENDAR
